{
 "currentVersion": 10.51,
 "serviceDescription": " Ce service de visualisation permet de consulter l'image orthorectifiée et mosaïquée couvrant l'entièreté du territoire wallon à une résolution de 25 cm pour l'année 2023 (été). Pour plus d'informations sur ce service, consultez https://geoportail.wallonie.be/catalogue/84c96ee0-8096-465f-92cb-0f8247033aa9.html<\/SPAN><\/P><\/DIV><\/DIV>",
 "mapName": "Layers",
 "description": "",
 "copyrightText": "SPW",
 "supportsDynamicLayers": true,
 "layers": [
  {
   "id": 0,
   "name": "ORTHO_2023_ETE",
   "parentLayerId": -1,
   "defaultVisibility": true,
   "subLayerIds": null,
   "minScale": 0,
   "maxScale": 0
  }
 ],
 "tables": [],
 "spatialReference": {
  "wkid": 31370,
  "latestWkid": 31370
 },
 "singleFusedMapCache": true,
 "tileInfo": {
  "rows": 512,
  "cols": 512,
  "dpi": 96,
  "format": "JPEG",
  "compressionQuality": 75,
  "origin": {
   "x": -35872700,
   "y": 41422700
  },
  "spatialReference": {
   "wkid": 31370,
   "latestWkid": 31370
  },
  "lods": [
   {
    "level": 0,
    "resolution": 396.87579375158754,
    "scale": 1500000
   },
   {
    "level": 1,
    "resolution": 330.72982812632296,
    "scale": 1250000
   },
   {
    "level": 2,
    "resolution": 264.5838625010584,
    "scale": 1000000
   },
   {
    "level": 3,
    "resolution": 198.43789687579377,
    "scale": 750000
   },
   {
    "level": 4,
    "resolution": 132.2919312505292,
    "scale": 500000
   },
   {
    "level": 5,
    "resolution": 66.1459656252646,
    "scale": 250000
   },
   {
    "level": 6,
    "resolution": 26.458386250105836,
    "scale": 100000
   },
   {
    "level": 7,
    "resolution": 19.843789687579378,
    "scale": 75000
   },
   {
    "level": 8,
    "resolution": 13.229193125052918,
    "scale": 50000
   },
   {
    "level": 9,
    "resolution": 6.614596562526459,
    "scale": 25000
   },
   {
    "level": 10,
    "resolution": 3.9687579375158752,
    "scale": 15000
   },
   {
    "level": 11,
    "resolution": 2.6458386250105836,
    "scale": 10000
   },
   {
    "level": 12,
    "resolution": 1.3229193125052918,
    "scale": 5000
   },
   {
    "level": 13,
    "resolution": 0.6614596562526459,
    "scale": 2500
   },
   {
    "level": 14,
    "resolution": 0.26458386250105836,
    "scale": 1000
   },
   {
    "level": 15,
    "resolution": 0.13229193125052918,
    "scale": 500
   },
   {
    "level": 16,
    "resolution": 0.06614596562526459,
    "scale": 250
   }
  ]
 },
 "initialExtent": {
  "xmin": -32515.544582027447,
  "ymin": 60618.00744817675,
  "xmax": 370412.71094798355,
  "ymax": 283325.74544101016,
  "spatialReference": {
   "wkid": 31370,
   "latestWkid": 31370
  }
 },
 "fullExtent": {
  "xmin": 42000.00000000767,
  "ymin": 20000.000000378117,
  "xmax": 296000.00000000885,
  "ymax": 168000.00000037812,
  "spatialReference": {
   "wkid": 31370,
   "latestWkid": 31370
  }
 },
 "minScale": 1500000,
 "maxScale": 250,
 "units": "esriMeters",
 "supportedImageFormatTypes": "PNG32,PNG24,PNG,JPG,DIB,TIFF,EMF,PS,PDF,GIF,SVG,SVGZ,BMP",
 "documentInfo": {
  "Title": "ORTHO_2023_ETE",
  "Author": "",
  "Comments": "Ce service de visualisation permet de consulter l'image orthorectifiée et mosaïquée couvrant l'entièreté du territoire wallon à une résolution de 25 cm pour l'année 2023 (été). Pour plus d'informations sur ce service, consultez https://geoportail.wallonie.be/catalogue/84c96ee0-8096-465f-92cb-0f8247033aa9.html ",
  "Subject": "Ce service de visualisation permet de consulter l'image orthorectifiée pour l'année 2023 (été).",
  "Category": "",
  "AntialiasingMode": "None",
  "TextAntialiasingMode": "Force",
  "Keywords": "orthos;images aériennes"
 },
 "capabilities": "Map,Query,Data",
 "supportedQueryFormats": "JSON, AMF, geoJSON",
 "exportTilesAllowed": false,
 "datumTransformations": [
  {
   "geoTransforms": [
    {
     "wkid": 108001,
     "latestWkid": 1241,
     "transformForward": true,
     "name": "NAD_1927_To_NAD_1983_NADCON"
    }
   ]
  },
  {
   "geoTransforms": [
    {
     "wkid": 108001,
     "latestWkid": 1241,
     "transformForward": false,
     "name": "NAD_1927_To_NAD_1983_NADCON"
    }
   ]
  },
  {
   "geoTransforms": [
    {
     "wkid": 1609,
     "latestWkid": 1609,
     "transformForward": true,
     "name": "Belge_1972_To_WGS_1984_1"
    }
   ]
  },
  {
   "geoTransforms": [
    {
     "wkid": 1609,
     "latestWkid": 1609,
     "transformForward": false,
     "name": "Belge_1972_To_WGS_1984_1"
    }
   ]
  },
  {
   "geoTransforms": [
    {
     "wkid": 15748,
     "latestWkid": 15928,
     "transformForward": false,
     "name": "Belge_1972_To_ETRS_1989_2"
    }
   ]
  },
  {
   "geoTransforms": [
    {
     "wkid": 15748,
     "latestWkid": 15928,
     "transformForward": true,
     "name": "Belge_1972_To_ETRS_1989_2"
    }
   ]
  }
 ],
 "supportsDatumTransformation": true,
 "maxRecordCount": 1000,
 "maxImageHeight": 4096,
 "maxImageWidth": 4096,
 "supportedExtensions": ""
}
