{
 "currentVersion": 10.51,
 "serviceDescription": "Fond de plan SPW, sur base des données AGDP, IGN et SPW.",
 "mapName": "Couches",
 "description": "Fond de plan SPW léger basé sur des données SPF Finances (AGDP), IGN et SPW.\nPlus d'informations sur geoportail.wallonie.be",
 "copyrightText": "AGDP, IGN, SPW",
 "supportsDynamicLayers": true,
 "layers": [
  {
   "id": 0,
   "name": "1500-1k",
   "parentLayerId": -1,
   "defaultVisibility": true,
   "subLayerIds": [
    1,
    2
   ],
   "minScale": 1500000,
   "maxScale": 999
  },
  {
   "id": 1,
   "name": "Région © AGDP",
   "parentLayerId": 0,
   "defaultVisibility": true,
   "subLayerIds": null,
   "minScale": 1500000,
   "maxScale": 999
  },
  {
   "id": 2,
   "name": "Régions (hors RW) © AGDP",
   "parentLayerId": 0,
   "defaultVisibility": true,
   "subLayerIds": null,
   "minScale": 1500000,
   "maxScale": 999
  },
  {
   "id": 3,
   "name": "1500-800k",
   "parentLayerId": -1,
   "defaultVisibility": true,
   "subLayerIds": [
    4
   ],
   "minScale": 1500000,
   "maxScale": 800001
  },
  {
   "id": 4,
   "name": "Réseaux © SPW",
   "parentLayerId": 3,
   "defaultVisibility": true,
   "subLayerIds": [
    5
   ],
   "minScale": 1500000,
   "maxScale": 800001
  },
  {
   "id": 5,
   "name": "Autoroutes © SPW",
   "parentLayerId": 4,
   "defaultVisibility": true,
   "subLayerIds": null,
   "minScale": 1500000,
   "maxScale": 800001
  },
  {
   "id": 6,
   "name": "800-100k",
   "parentLayerId": -1,
   "defaultVisibility": true,
   "subLayerIds": [
    7
   ],
   "minScale": 800000,
   "maxScale": 100001
  },
  {
   "id": 7,
   "name": "Réseaux © SPW",
   "parentLayerId": 6,
   "defaultVisibility": true,
   "subLayerIds": [
    8,
    9
   ],
   "minScale": 800000,
   "maxScale": 100001
  },
  {
   "id": 8,
   "name": "Autoroutes et rings © SPW",
   "parentLayerId": 7,
   "defaultVisibility": true,
   "subLayerIds": null,
   "minScale": 800000,
   "maxScale": 100001
  },
  {
   "id": 9,
   "name": "Voies hydrauliques © SPW",
   "parentLayerId": 7,
   "defaultVisibility": true,
   "subLayerIds": null,
   "minScale": 800000,
   "maxScale": 100001
  },
  {
   "id": 10,
   "name": "100-60k",
   "parentLayerId": -1,
   "defaultVisibility": true,
   "subLayerIds": [
    11
   ],
   "minScale": 100000,
   "maxScale": 60001
  },
  {
   "id": 11,
   "name": "Réseaux © IGN, SPW",
   "parentLayerId": 10,
   "defaultVisibility": true,
   "subLayerIds": [
    12,
    15,
    16
   ],
   "minScale": 100000,
   "maxScale": 60001
  },
  {
   "id": 12,
   "name": "Routes © SPW",
   "parentLayerId": 11,
   "defaultVisibility": true,
   "subLayerIds": [
    13,
    14
   ],
   "minScale": 100000,
   "maxScale": 60001
  },
  {
   "id": 13,
   "name": "Autoroutes © SPW",
   "parentLayerId": 12,
   "defaultVisibility": true,
   "subLayerIds": null,
   "minScale": 100000,
   "maxScale": 60001
  },
  {
   "id": 14,
   "name": "Nationales © SPW",
   "parentLayerId": 12,
   "defaultVisibility": true,
   "subLayerIds": null,
   "minScale": 100000,
   "maxScale": 60001
  },
  {
   "id": 15,
   "name": "Voies ferrées © IGN",
   "parentLayerId": 11,
   "defaultVisibility": true,
   "subLayerIds": null,
   "minScale": 100000,
   "maxScale": 60001
  },
  {
   "id": 16,
   "name": "Voies hydrauliques © SPW",
   "parentLayerId": 11,
   "defaultVisibility": true,
   "subLayerIds": null,
   "minScale": 100000,
   "maxScale": 60001
  },
  {
   "id": 17,
   "name": "100-60k - Occupation du sol © SPW",
   "parentLayerId": -1,
   "defaultVisibility": true,
   "subLayerIds": [
    18
   ],
   "minScale": 100000,
   "maxScale": 60001
  },
  {
   "id": 18,
   "name": "Occupation du sol - WALOUS 2018 © SPW",
   "parentLayerId": 17,
   "defaultVisibility": true,
   "subLayerIds": null,
   "minScale": 100000,
   "maxScale": 60001
  },
  {
   "id": 19,
   "name": "60-30k",
   "parentLayerId": -1,
   "defaultVisibility": true,
   "subLayerIds": [
    20
   ],
   "minScale": 60000,
   "maxScale": 30001
  },
  {
   "id": 20,
   "name": "Réseaux © IGN, SPW",
   "parentLayerId": 19,
   "defaultVisibility": true,
   "subLayerIds": [
    21,
    24,
    25
   ],
   "minScale": 60000,
   "maxScale": 30001
  },
  {
   "id": 21,
   "name": "Routes © SPW",
   "parentLayerId": 20,
   "defaultVisibility": true,
   "subLayerIds": [
    22,
    23
   ],
   "minScale": 60000,
   "maxScale": 30001
  },
  {
   "id": 22,
   "name": "Autoroutes © SPW",
   "parentLayerId": 21,
   "defaultVisibility": true,
   "subLayerIds": null,
   "minScale": 60000,
   "maxScale": 30001
  },
  {
   "id": 23,
   "name": "Nationales © SPW",
   "parentLayerId": 21,
   "defaultVisibility": true,
   "subLayerIds": null,
   "minScale": 60000,
   "maxScale": 30001
  },
  {
   "id": 24,
   "name": "Voies ferrées © IGN",
   "parentLayerId": 20,
   "defaultVisibility": true,
   "subLayerIds": null,
   "minScale": 60000,
   "maxScale": 30001
  },
  {
   "id": 25,
   "name": "Voies hydrauliques © SPW",
   "parentLayerId": 20,
   "defaultVisibility": true,
   "subLayerIds": null,
   "minScale": 60000,
   "maxScale": 30001
  },
  {
   "id": 26,
   "name": "60-30k - Occupation du sol © SPW",
   "parentLayerId": -1,
   "defaultVisibility": true,
   "subLayerIds": [
    27
   ],
   "minScale": 60000,
   "maxScale": 30001
  },
  {
   "id": 27,
   "name": "Occupation du sol - WALOUS 2018 © SPW",
   "parentLayerId": 26,
   "defaultVisibility": true,
   "subLayerIds": null,
   "minScale": 60000,
   "maxScale": 30001
  },
  {
   "id": 28,
   "name": "30-17k",
   "parentLayerId": -1,
   "defaultVisibility": true,
   "subLayerIds": [
    29
   ],
   "minScale": 30000,
   "maxScale": 17001
  },
  {
   "id": 29,
   "name": "Réseaux © IGN, SPW",
   "parentLayerId": 28,
   "defaultVisibility": true,
   "subLayerIds": [
    30,
    31,
    35
   ],
   "minScale": 30000,
   "maxScale": 17001
  },
  {
   "id": 30,
   "name": "Voies ferrées © IGN",
   "parentLayerId": 29,
   "defaultVisibility": true,
   "subLayerIds": null,
   "minScale": 30000,
   "maxScale": 17001
  },
  {
   "id": 31,
   "name": "Routes © SPW",
   "parentLayerId": 29,
   "defaultVisibility": true,
   "subLayerIds": [
    32,
    33,
    34
   ],
   "minScale": 30000,
   "maxScale": 17001
  },
  {
   "id": 32,
   "name": "Autoroutes © SPW",
   "parentLayerId": 31,
   "defaultVisibility": true,
   "subLayerIds": null,
   "minScale": 30000,
   "maxScale": 17001
  },
  {
   "id": 33,
   "name": "Nationales © SPW",
   "parentLayerId": 31,
   "defaultVisibility": true,
   "subLayerIds": null,
   "minScale": 30000,
   "maxScale": 17001
  },
  {
   "id": 34,
   "name": "Communales © SPW",
   "parentLayerId": 31,
   "defaultVisibility": true,
   "subLayerIds": null,
   "minScale": 30000,
   "maxScale": 17001
  },
  {
   "id": 35,
   "name": "Voies hydrauliques © SPW",
   "parentLayerId": 29,
   "defaultVisibility": true,
   "subLayerIds": null,
   "minScale": 30000,
   "maxScale": 17001
  },
  {
   "id": 36,
   "name": "30-17k - Occupation du sol © SPW",
   "parentLayerId": -1,
   "defaultVisibility": true,
   "subLayerIds": [
    37,
    38
   ],
   "minScale": 30000,
   "maxScale": 17001
  },
  {
   "id": 37,
   "name": "Utilisation du sol - WALOUS 2018 © SPW",
   "parentLayerId": 36,
   "defaultVisibility": true,
   "subLayerIds": null,
   "minScale": 30000,
   "maxScale": 17001
  },
  {
   "id": 38,
   "name": "Occupation du sol - WALOUS 2018 © SPW",
   "parentLayerId": 36,
   "defaultVisibility": true,
   "subLayerIds": null,
   "minScale": 30000,
   "maxScale": 17001
  },
  {
   "id": 39,
   "name": "17-13k",
   "parentLayerId": -1,
   "defaultVisibility": true,
   "subLayerIds": [
    40
   ],
   "minScale": 17000,
   "maxScale": 13001
  },
  {
   "id": 40,
   "name": "Réseaux © IGN, SPW",
   "parentLayerId": 39,
   "defaultVisibility": true,
   "subLayerIds": [
    41,
    42,
    46
   ],
   "minScale": 17000,
   "maxScale": 13001
  },
  {
   "id": 41,
   "name": "Voies ferrées © IGN",
   "parentLayerId": 40,
   "defaultVisibility": true,
   "subLayerIds": null,
   "minScale": 17000,
   "maxScale": 13001
  },
  {
   "id": 42,
   "name": "Routes © SPW",
   "parentLayerId": 40,
   "defaultVisibility": true,
   "subLayerIds": [
    43,
    44,
    45
   ],
   "minScale": 17000,
   "maxScale": 13001
  },
  {
   "id": 43,
   "name": "Autoroutes © SPW",
   "parentLayerId": 42,
   "defaultVisibility": true,
   "subLayerIds": null,
   "minScale": 17000,
   "maxScale": 13001
  },
  {
   "id": 44,
   "name": "Nationales © SPW",
   "parentLayerId": 42,
   "defaultVisibility": true,
   "subLayerIds": null,
   "minScale": 17000,
   "maxScale": 13001
  },
  {
   "id": 45,
   "name": "Communales © SPW",
   "parentLayerId": 42,
   "defaultVisibility": true,
   "subLayerIds": null,
   "minScale": 17000,
   "maxScale": 13001
  },
  {
   "id": 46,
   "name": "Voies hydrauliques © SPW",
   "parentLayerId": 40,
   "defaultVisibility": true,
   "subLayerIds": null,
   "minScale": 17000,
   "maxScale": 13001
  },
  {
   "id": 47,
   "name": "17-13k - Occupation du sol © SPW",
   "parentLayerId": -1,
   "defaultVisibility": true,
   "subLayerIds": [
    48,
    49
   ],
   "minScale": 17000,
   "maxScale": 13001
  },
  {
   "id": 48,
   "name": "Bâtiments © SPW",
   "parentLayerId": 47,
   "defaultVisibility": true,
   "subLayerIds": null,
   "minScale": 17000,
   "maxScale": 13001
  },
  {
   "id": 49,
   "name": "Occupation du sol - WALOUS 2018 © SPW",
   "parentLayerId": 47,
   "defaultVisibility": true,
   "subLayerIds": null,
   "minScale": 17000,
   "maxScale": 13001
  },
  {
   "id": 50,
   "name": "13-5k",
   "parentLayerId": -1,
   "defaultVisibility": true,
   "subLayerIds": [
    51,
    52
   ],
   "minScale": 13000,
   "maxScale": 5001
  },
  {
   "id": 51,
   "name": "PICC - bâtiments © SPW",
   "parentLayerId": 50,
   "defaultVisibility": true,
   "subLayerIds": null,
   "minScale": 13000,
   "maxScale": 5001
  },
  {
   "id": 52,
   "name": "Réseaux © IGN, SPW",
   "parentLayerId": 50,
   "defaultVisibility": true,
   "subLayerIds": [
    53,
    57
   ],
   "minScale": 13000,
   "maxScale": 5001
  },
  {
   "id": 53,
   "name": "Routes © SPW",
   "parentLayerId": 52,
   "defaultVisibility": true,
   "subLayerIds": [
    54,
    55,
    56
   ],
   "minScale": 13000,
   "maxScale": 5001
  },
  {
   "id": 54,
   "name": "Autoroutes © SPW",
   "parentLayerId": 53,
   "defaultVisibility": true,
   "subLayerIds": null,
   "minScale": 13000,
   "maxScale": 5001
  },
  {
   "id": 55,
   "name": "Nationales © SPW",
   "parentLayerId": 53,
   "defaultVisibility": true,
   "subLayerIds": null,
   "minScale": 13000,
   "maxScale": 5001
  },
  {
   "id": 56,
   "name": "Communales © SPW",
   "parentLayerId": 53,
   "defaultVisibility": true,
   "subLayerIds": null,
   "minScale": 13000,
   "maxScale": 5001
  },
  {
   "id": 57,
   "name": "Voies ferrées © IGN",
   "parentLayerId": 52,
   "defaultVisibility": true,
   "subLayerIds": null,
   "minScale": 13000,
   "maxScale": 5001
  },
  {
   "id": 58,
   "name": "13-5k - Occupation du sol © SPW",
   "parentLayerId": -1,
   "defaultVisibility": true,
   "subLayerIds": [
    59,
    60
   ],
   "minScale": 13000,
   "maxScale": 5001
  },
  {
   "id": 59,
   "name": "Plans d'eau © SPW",
   "parentLayerId": 58,
   "defaultVisibility": true,
   "subLayerIds": null,
   "minScale": 13000,
   "maxScale": 5001
  },
  {
   "id": 60,
   "name": "Occupation du sol - WALOUS 2018 © SPW",
   "parentLayerId": 58,
   "defaultVisibility": true,
   "subLayerIds": null,
   "minScale": 13000,
   "maxScale": 5001
  },
  {
   "id": 61,
   "name": "5-1k",
   "parentLayerId": -1,
   "defaultVisibility": true,
   "subLayerIds": [
    62,
    63
   ],
   "minScale": 5000,
   "maxScale": 1001
  },
  {
   "id": 62,
   "name": "Bâtiments © SPW",
   "parentLayerId": 61,
   "defaultVisibility": true,
   "subLayerIds": null,
   "minScale": 5000,
   "maxScale": 1001
  },
  {
   "id": 63,
   "name": "Réseaux © IGN, SPW",
   "parentLayerId": 61,
   "defaultVisibility": true,
   "subLayerIds": [
    64,
    65,
    66
   ],
   "minScale": 5000,
   "maxScale": 1001
  },
  {
   "id": 64,
   "name": "Bords de voirie, chemin ou îlot directionnel © SPW",
   "parentLayerId": 63,
   "defaultVisibility": true,
   "subLayerIds": null,
   "minScale": 5000,
   "maxScale": 1001
  },
  {
   "id": 65,
   "name": "Voies ferrées © IGN",
   "parentLayerId": 63,
   "defaultVisibility": true,
   "subLayerIds": null,
   "minScale": 5000,
   "maxScale": 1001
  },
  {
   "id": 66,
   "name": "Réseau hydrographique wallon de référence © SPW",
   "parentLayerId": 63,
   "defaultVisibility": true,
   "subLayerIds": null,
   "minScale": 5000,
   "maxScale": 1001
  },
  {
   "id": 67,
   "name": "1-0.25 k",
   "parentLayerId": -1,
   "defaultVisibility": true,
   "subLayerIds": [
    68,
    69
   ],
   "minScale": 1000,
   "maxScale": 250
  },
  {
   "id": 68,
   "name": "Bâtiments © SPW",
   "parentLayerId": 67,
   "defaultVisibility": true,
   "subLayerIds": null,
   "minScale": 1000,
   "maxScale": 250
  },
  {
   "id": 69,
   "name": "Réseaux © IGN, SPW",
   "parentLayerId": 67,
   "defaultVisibility": true,
   "subLayerIds": [
    70,
    71,
    72
   ],
   "minScale": 1000,
   "maxScale": 250
  },
  {
   "id": 70,
   "name": "Bords de voirie, chemin ou îlot directionnel © SPW",
   "parentLayerId": 69,
   "defaultVisibility": true,
   "subLayerIds": null,
   "minScale": 1000,
   "maxScale": 250
  },
  {
   "id": 71,
   "name": "Voies ferrées © IGN",
   "parentLayerId": 69,
   "defaultVisibility": true,
   "subLayerIds": null,
   "minScale": 1000,
   "maxScale": 250
  },
  {
   "id": 72,
   "name": "Réseau hydrographique wallon de référence © SPW",
   "parentLayerId": 69,
   "defaultVisibility": true,
   "subLayerIds": null,
   "minScale": 1000,
   "maxScale": 250
  },
  {
   "id": 73,
   "name": "1500-1k",
   "parentLayerId": -1,
   "defaultVisibility": true,
   "subLayerIds": [
    74
   ],
   "minScale": 1500000,
   "maxScale": 999
  },
  {
   "id": 74,
   "name": "Région © AGDP",
   "parentLayerId": 73,
   "defaultVisibility": true,
   "subLayerIds": null,
   "minScale": 1500000,
   "maxScale": 999
  }
 ],
 "tables": [],
 "spatialReference": {
  "wkid": 31370,
  "latestWkid": 31370
 },
 "singleFusedMapCache": true,
 "tileInfo": {
  "rows": 512,
  "cols": 512,
  "dpi": 96,
  "format": "PNG32",
  "compressionQuality": 0,
  "origin": {
   "x": -35872700,
   "y": 41422700
  },
  "spatialReference": {
   "wkid": 31370,
   "latestWkid": 31370
  },
  "lods": [
   {
    "level": 0,
    "resolution": 396.87579375158754,
    "scale": 1500000
   },
   {
    "level": 1,
    "resolution": 330.72982812632296,
    "scale": 1250000
   },
   {
    "level": 2,
    "resolution": 264.5838625010584,
    "scale": 1000000
   },
   {
    "level": 3,
    "resolution": 198.43789687579377,
    "scale": 750000
   },
   {
    "level": 4,
    "resolution": 132.2919312505292,
    "scale": 500000
   },
   {
    "level": 5,
    "resolution": 66.1459656252646,
    "scale": 250000
   },
   {
    "level": 6,
    "resolution": 26.458386250105836,
    "scale": 100000
   },
   {
    "level": 7,
    "resolution": 19.843789687579378,
    "scale": 75000
   },
   {
    "level": 8,
    "resolution": 13.229193125052918,
    "scale": 50000
   },
   {
    "level": 9,
    "resolution": 6.614596562526459,
    "scale": 25000
   },
   {
    "level": 10,
    "resolution": 3.9687579375158752,
    "scale": 15000
   },
   {
    "level": 11,
    "resolution": 2.6458386250105836,
    "scale": 10000
   },
   {
    "level": 12,
    "resolution": 1.3229193125052918,
    "scale": 5000
   },
   {
    "level": 13,
    "resolution": 0.6614596562526459,
    "scale": 2500
   },
   {
    "level": 14,
    "resolution": 0.26458386250105836,
    "scale": 1000
   },
   {
    "level": 15,
    "resolution": 0.13229193125052918,
    "scale": 500
   },
   {
    "level": 16,
    "resolution": 0.06614596562526459,
    "scale": 250
   }
  ]
 },
 "initialExtent": {
  "xmin": 181722.6546163951,
  "ymin": 115332.49612585185,
  "xmax": 193139.44828331578,
  "ymax": 120372.818706497,
  "spatialReference": {
   "wkid": 31370,
   "latestWkid": 31370
  }
 },
 "fullExtent": {
  "xmin": 30000.00000000003,
  "ymin": 15000.000000000931,
  "xmax": 310000,
  "ymax": 200000.00000000093,
  "spatialReference": {
   "wkid": 31370,
   "latestWkid": 31370
  }
 },
 "minScale": 1500000,
 "maxScale": 250,
 "units": "esriMeters",
 "supportedImageFormatTypes": "PNG32,PNG24,PNG,JPG,DIB,TIFF,EMF,PS,PDF,GIF,SVG,SVGZ,BMP",
 "documentInfo": {
  "Title": "Fond de plan - Wallonie",
  "Author": "SPW",
  "Comments": "Fond de plan SPW, sur base des données AGDP, IGN et SPW.",
  "Subject": "Fond de plan",
  "Category": "",
  "AntialiasingMode": "None",
  "TextAntialiasingMode": "Force",
  "Keywords": "Fond de plan"
 },
 "capabilities": "Map,Query,Data",
 "supportedQueryFormats": "JSON, AMF, geoJSON",
 "exportTilesAllowed": false,
 "datumTransformations": [
  {
   "geoTransforms": [
    {
     "wkt": "GEOGTRAN[\"Belge_1972_To_ETRS_1989_NTv2\",GEOGCS[\"GCS_Belge_1972\",DATUM[\"D_Belge_1972\",SPHEROID[\"International_1924\",6378388.0,297.0]],PRIMEM[\"Greenwich\",0.0],UNIT[\"Degree\",0.0174532925199433]],GEOGCS[\"GCS_ETRS_1989\",DATUM[\"D_ETRS_1989\",SPHEROID[\"GRS_1980\",6378137.0,298.257222101]],PRIMEM[\"Greenwich\",0.0],UNIT[\"Degree\",0.0174532925199433]],METHOD[\"NTv2\"],PARAMETER[\"Dataset_belgium/bd72lb72_etrs89lb08.gsb\",0.0]]",
     "transformForward": false,
     "name": "Belge_1972_To_ETRS_1989_NTv2"
    }
   ]
  },
  {
   "geoTransforms": [
    {
     "wkt": "GEOGTRAN[\"Belge_1972_To_ETRS_1989_NTv2\",GEOGCS[\"GCS_Belge_1972\",DATUM[\"D_Belge_1972\",SPHEROID[\"International_1924\",6378388.0,297.0]],PRIMEM[\"Greenwich\",0.0],UNIT[\"Degree\",0.0174532925199433]],GEOGCS[\"GCS_ETRS_1989\",DATUM[\"D_ETRS_1989\",SPHEROID[\"GRS_1980\",6378137.0,298.257222101]],PRIMEM[\"Greenwich\",0.0],UNIT[\"Degree\",0.0174532925199433]],METHOD[\"NTv2\"],PARAMETER[\"Dataset_belgium/bd72lb72_etrs89lb08.gsb\",0.0]]",
     "transformForward": true,
     "name": "Belge_1972_To_ETRS_1989_NTv2"
    }
   ]
  }
 ],
 "supportsDatumTransformation": true,
 "maxRecordCount": 1000,
 "maxImageHeight": 4096,
 "maxImageWidth": 4096,
 "supportedExtensions": "WMSServer"
}
